BEGIN:VCALENDAR
VERSION:2.0
PRODID:-//pretix//pretix.eu//
BEGIN:VTIMEZONE
TZID:Europe/Berlin
BEGIN:STANDARD
DTSTART:20001029T040000
RRULE:FREQ=YEARLY;BYDAY=-1SU;BYMONTH=10
TZNAME:CET
TZOFFSETFROM:+0200
TZOFFSETTO:+0100
END:STANDARD
BEGIN:DAYLIGHT
DTSTART:20000326T030000
RRULE:FREQ=YEARLY;BYDAY=-1SU;BYMONTH=3
TZNAME:CEST
TZOFFSETFROM:+0100
TZOFFSETTO:+0200
END:DAYLIGHT
END:VTIMEZONE
BEGIN:VEVENT
UID:pretix-claushilkinger-3383l-0@claushilkinger.fairetickets.de
DTSTART;TZID=Europe/Berlin:20270213T200000
DTEND;TZID=Europe/Berlin:20270213T210000
DESCRIPTION:Tickets: https://claushilkinger.fairetickets.de/3383l/\nEinlass
 : 13.02.2027 18:00\nVeranstalter: Künstleragentur Claus Hilkinger
DTSTAMP:20260425T141902Z
LOCATION:Stalberstraße 31 \, 83416 Saaldorf
SUMMARY:BINSER - "BUMM" - [Saaldorf-Surheim / Mehrzweckhalle]
END:VEVENT
END:VCALENDAR
