BEGIN:VCALENDAR
VERSION:2.0
PRODID:-//pretix//pretix.eu//
BEGIN:VTIMEZONE
TZID:Europe/Berlin
BEGIN:STANDARD
DTSTART:20001029T040000
RRULE:FREQ=YEARLY;BYDAY=-1SU;BYMONTH=10
TZNAME:CET
TZOFFSETFROM:+0200
TZOFFSETTO:+0100
END:STANDARD
BEGIN:DAYLIGHT
DTSTART:20000326T030000
RRULE:FREQ=YEARLY;BYDAY=-1SU;BYMONTH=3
TZNAME:CEST
TZOFFSETFROM:+0100
TZOFFSETTO:+0200
END:DAYLIGHT
END:VTIMEZONE
BEGIN:VEVENT
UID:pretix-claushilkinger-7ulpj-0@claushilkinger.fairetickets.de
DTSTART;TZID=Europe/Berlin:20261029T200000
DTEND;TZID=Europe/Berlin:20261029T210000
DESCRIPTION:Tickets: https://claushilkinger.fairetickets.de/7ulpj/\nEinlass
 : 29.10.2026 19:00\nVeranstalter: Künstleragentur Claus Hilkinger
DTSTAMP:20260422T123017Z
LOCATION:Am Westpark 2\, 85057 Ingolstadt
SUMMARY:Ralf Winkelbeiner - "HAPPY" - [Ingolstadt / Eventhalle Westpark]
END:VEVENT
END:VCALENDAR
