BEGIN:VCALENDAR
VERSION:2.0
PRODID:-//pretix//pretix.eu//
BEGIN:VTIMEZONE
TZID:Europe/Berlin
BEGIN:STANDARD
DTSTART:20001029T040000
RRULE:FREQ=YEARLY;BYDAY=-1SU;BYMONTH=10
TZNAME:CET
TZOFFSETFROM:+0200
TZOFFSETTO:+0100
END:STANDARD
BEGIN:DAYLIGHT
DTSTART:20000326T030000
RRULE:FREQ=YEARLY;BYDAY=-1SU;BYMONTH=3
TZNAME:CEST
TZOFFSETFROM:+0100
TZOFFSETTO:+0200
END:DAYLIGHT
END:VTIMEZONE
BEGIN:VEVENT
UID:pretix-claushilkinger-fqwrd-0@claushilkinger.fairetickets.de
DTSTART;TZID=Europe/Berlin:20261030T200000
DTEND;TZID=Europe/Berlin:20261030T210000
DESCRIPTION:Tickets: https://claushilkinger.fairetickets.de/fqwrd/\nEinlass
 : 30.10.2026 19:00\nVeranstalter: Künstleragentur Claus Hilkinger
DTSTAMP:20260420T034115Z
LOCATION:Bürgermeister-Wohlmut-Str.2\, 86438 Kissing
SUMMARY:BINSER - "BUMM" - [Kissing / Erlebachsaal]
END:VEVENT
END:VCALENDAR
