BEGIN:VCALENDAR
VERSION:2.0
PRODID:-//pretix//pretix.eu//
BEGIN:VTIMEZONE
TZID:Europe/Berlin
BEGIN:STANDARD
DTSTART:20001029T040000
RRULE:FREQ=YEARLY;BYDAY=-1SU;BYMONTH=10
TZNAME:CET
TZOFFSETFROM:+0200
TZOFFSETTO:+0100
END:STANDARD
BEGIN:DAYLIGHT
DTSTART:20000326T030000
RRULE:FREQ=YEARLY;BYDAY=-1SU;BYMONTH=3
TZNAME:CEST
TZOFFSETFROM:+0100
TZOFFSETTO:+0200
END:DAYLIGHT
END:VTIMEZONE
BEGIN:VEVENT
UID:pretix-claushilkinger-hlyt8-0@claushilkinger.fairetickets.de
DTSTART;TZID=Europe/Berlin:20261023T193000
DTEND;TZID=Europe/Berlin:20261023T203000
DESCRIPTION:Tickets: https://claushilkinger.fairetickets.de/hlyt8/\nEinlass
 : 23.10.2026 18:00\nVeranstalter: Künstleragentur Claus Hilkinger
DTSTAMP:20260422T123248Z
LOCATION:Hauptstr. 20\, 94530 Auerbach
SUMMARY:Ralf Winkelbeiner - "HAPPY" - [Auerbach / Gasthaus Zur Säge]
END:VEVENT
END:VCALENDAR
