BEGIN:VCALENDAR
VERSION:2.0
PRODID:-//pretix//pretix.eu//
BEGIN:VTIMEZONE
TZID:Europe/Berlin
BEGIN:STANDARD
DTSTART:20001029T040000
RRULE:FREQ=YEARLY;BYDAY=-1SU;BYMONTH=10
TZNAME:CET
TZOFFSETFROM:+0200
TZOFFSETTO:+0100
END:STANDARD
BEGIN:DAYLIGHT
DTSTART:20000326T030000
RRULE:FREQ=YEARLY;BYDAY=-1SU;BYMONTH=3
TZNAME:CEST
TZOFFSETFROM:+0100
TZOFFSETTO:+0200
END:DAYLIGHT
END:VTIMEZONE
BEGIN:VEVENT
UID:pretix-claushilkinger-ht73k-0@claushilkinger.fairetickets.de
DTSTART;TZID=Europe/Berlin:20270114T200000
DTEND;TZID=Europe/Berlin:20270114T210000
DESCRIPTION:Tickets: https://claushilkinger.fairetickets.de/ht73k/\nEinlass
 : 14.01.2027 19:00\nVeranstalter: Künstleragentur Claus Hilkinger
DTSTAMP:20260422T123105Z
LOCATION:Galgenbergstraße 20\, 93053 Regensburg
SUMMARY:Ralf Winkelbeiner - "HAPPY" - [Regensburg / Alte Mälzerei]
END:VEVENT
END:VCALENDAR
