BEGIN:VCALENDAR
VERSION:2.0
PRODID:-//pretix//pretix.eu//
BEGIN:VTIMEZONE
TZID:Europe/Berlin
BEGIN:STANDARD
DTSTART:20001029T040000
RRULE:FREQ=YEARLY;BYDAY=-1SU;BYMONTH=10
TZNAME:CET
TZOFFSETFROM:+0200
TZOFFSETTO:+0100
END:STANDARD
BEGIN:DAYLIGHT
DTSTART:20000326T030000
RRULE:FREQ=YEARLY;BYDAY=-1SU;BYMONTH=3
TZNAME:CEST
TZOFFSETFROM:+0100
TZOFFSETTO:+0200
END:DAYLIGHT
END:VTIMEZONE
BEGIN:VEVENT
UID:pretix-claushilkinger-p8ytp-0@claushilkinger.fairetickets.de
DTSTART;TZID=Europe/Berlin:20260508T200000
DTEND;TZID=Europe/Berlin:20260508T210000
DESCRIPTION:Tickets: https://claushilkinger.fairetickets.de/p8ytp/\nEinlass
 : 08.05.2026 18:00\nVeranstalter: Künstleragentur Claus Hilkinger
DTSTAMP:20260422T142528Z
LOCATION:Am Berg 9\, 91809 Wellheim\, OT Hard
SUMMARY:Ralf Winkelbeiner - "HAPPY" - [Wellheim\, OT Hard / Festzelt der FF
  Hard]
END:VEVENT
END:VCALENDAR
