BEGIN:VCALENDAR
VERSION:2.0
PRODID:-//pretix//pretix.eu//
BEGIN:VTIMEZONE
TZID:Europe/Berlin
BEGIN:STANDARD
DTSTART:20001029T040000
RRULE:FREQ=YEARLY;BYDAY=-1SU;BYMONTH=10
TZNAME:CET
TZOFFSETFROM:+0200
TZOFFSETTO:+0100
END:STANDARD
BEGIN:DAYLIGHT
DTSTART:20000326T030000
RRULE:FREQ=YEARLY;BYDAY=-1SU;BYMONTH=3
TZNAME:CEST
TZOFFSETFROM:+0100
TZOFFSETTO:+0200
END:DAYLIGHT
END:VTIMEZONE
BEGIN:VEVENT
UID:pretix-claushilkinger-qvn7p-0@claushilkinger.fairetickets.de
DTSTART;TZID=Europe/Berlin:20261023T200000
DTEND;TZID=Europe/Berlin:20261023T210000
DESCRIPTION:Tickets: https://claushilkinger.fairetickets.de/qvn7p/\nEinlass
 : 23.10.2026 19:00\nVeranstalter: Künstleragentur Claus Hilkinger
DTSTAMP:20260425T141939Z
LOCATION:Ernstinger Str. 2\, 94133 Röhrnbach
SUMMARY:BINSER - "BUMM" - [Röhrnbach / Haidl Atrium]
END:VEVENT
END:VCALENDAR
