BEGIN:VCALENDAR
VERSION:2.0
PRODID:-//pretix//pretix.eu//
BEGIN:VTIMEZONE
TZID:Europe/Berlin
BEGIN:STANDARD
DTSTART:20001029T040000
RRULE:FREQ=YEARLY;BYDAY=-1SU;BYMONTH=10
TZNAME:CET
TZOFFSETFROM:+0200
TZOFFSETTO:+0100
END:STANDARD
BEGIN:DAYLIGHT
DTSTART:20000326T030000
RRULE:FREQ=YEARLY;BYDAY=-1SU;BYMONTH=3
TZNAME:CEST
TZOFFSETFROM:+0100
TZOFFSETTO:+0200
END:DAYLIGHT
END:VTIMEZONE
BEGIN:VEVENT
UID:pretix-claushilkinger-sqxhy-0@claushilkinger.fairetickets.de
DTSTART;TZID=Europe/Berlin:20270408T200000
DTEND;TZID=Europe/Berlin:20270408T210000
DESCRIPTION:Tickets: https://claushilkinger.fairetickets.de/sqxhy/\nEinlass
 : 08.04.2027 18:15\nVeranstalter: Künstleragentur Claus Hilkinger
DTSTAMP:20260422T142607Z
LOCATION:Westerndorfer Straße 101\, 83024 Rosenheim
SUMMARY:Ralf Winkelbeiner - "HAPPY" - [Rosenheim / Gasthof Höhensteiger]
END:VEVENT
END:VCALENDAR
