BEGIN:VCALENDAR
VERSION:2.0
PRODID:-//pretix//pretix.eu//
BEGIN:VTIMEZONE
TZID:Europe/Berlin
BEGIN:STANDARD
DTSTART:20001029T040000
RRULE:FREQ=YEARLY;BYDAY=-1SU;BYMONTH=10
TZNAME:CET
TZOFFSETFROM:+0200
TZOFFSETTO:+0100
END:STANDARD
BEGIN:DAYLIGHT
DTSTART:20000326T030000
RRULE:FREQ=YEARLY;BYDAY=-1SU;BYMONTH=3
TZNAME:CEST
TZOFFSETFROM:+0100
TZOFFSETTO:+0200
END:DAYLIGHT
END:VTIMEZONE
BEGIN:VEVENT
UID:pretix-claushilkinger-swsub-0@claushilkinger.fairetickets.de
DTSTART;TZID=Europe/Berlin:20261010T193000
DTEND;TZID=Europe/Berlin:20261010T203000
DESCRIPTION:Tickets: https://claushilkinger.fairetickets.de/swsub/\nEinlass
 : 10.10.2026 18:30\nVeranstalter: Künstleragentur Claus Hilkinger
DTSTAMP:20260422T123024Z
LOCATION:Gutermannpromenade 7\, 97421 Schweinfurt
SUMMARY:Ralf Winkelbeiner - "HAPPY" - [Schweinfurt / Kulturwerkstatt Dishar
 monie]
END:VEVENT
END:VCALENDAR
